BEGIN:VCALENDAR
VERSION:2.0
PRODID:-//BMTR - ECPv6.3.6//NONSGML v1.0//EN
CALSCALE:GREGORIAN
METHOD:PUBLISH
X-ORIGINAL-URL:https://www.bmtr.nl
X-WR-CALDESC:Evenementen voor BMTR
REFRESH-INTERVAL;VALUE=DURATION:PT1H
X-Robots-Tag:noindex
X-PUBLISHED-TTL:PT1H
BEGIN:VTIMEZONE
TZID:UTC
BEGIN:STANDARD
TZOFFSETFROM:+0000
TZOFFSETTO:+0000
TZNAME:UTC
DTSTART:20250101T000000
END:STANDARD
END:VTIMEZONE
BEGIN:VEVENT
DTSTART;TZID=UTC:20250320T080000
DTEND;TZID=UTC:20250321T170000
DTSTAMP:20260419T134119
CREATED:20231208T160904Z
LAST-MODIFIED:20250106T134912Z
UID:10000002-1742457600-1742576400@www.bmtr.nl
SUMMARY:BMTR workshop
DESCRIPTION:Leer BMTR in een kleine groep ( maximaal 12 deelnemers)
URL:https://www.bmtr.nl/training/bmtr-individuele-training-2/
LOCATION:Vinkenbuurt\, Marsmanweg 1\, VINKENBUURT\, 7739 PD\, Nederland
CATEGORIES:Individuele training
ATTACH;FMTTYPE=image/jpeg:https://www.bmtr.nl/wp-content/uploads/2024/04/AdobeStock_682044690-1-scaled.jpeg
END:VEVENT
END:VCALENDAR